BEGIN:VCALENDAR
VERSION:2.0
PRODID:-//Factbook.fans - ECPv6.0.8//NONSGML v1.0//EN
CALSCALE:GREGORIAN
METHOD:PUBLISH
X-ORIGINAL-URL:https://factbook.fans
X-WR-CALDESC:Veranstaltungen für Factbook.fans
REFRESH-INTERVAL;VALUE=DURATION:PT1H
X-Robots-Tag:noindex
X-PUBLISHED-TTL:PT1H
BEGIN:VTIMEZONE
TZID:Europe/Vienna
BEGIN:DAYLIGHT
TZOFFSETFROM:+0100
TZOFFSETTO:+0200
TZNAME:CEST
DTSTART:20230326T010000
END:DAYLIGHT
BEGIN:STANDARD
TZOFFSETFROM:+0200
TZOFFSETTO:+0100
TZNAME:CET
DTSTART:20231029T010000
END:STANDARD
END:VTIMEZONE
BEGIN:VEVENT
DTSTART;VALUE=DATE:20230119
DTEND;VALUE=DATE:20230120
DTSTAMP:20260425T001154
CREATED:20230118T080534Z
LAST-MODIFIED:20230118T125104Z
UID:4995-1674086400-1674172799@factbook.fans
SUMMARY:Test 2
DESCRIPTION:Test Text 2
URL:https://factbook.fans/event/test-2/
LOCATION:Fuchslochhof\, Sportplatzstrasse 18\, Schweiggers\, Niederösterreich\, 3931\, Austria
ATTACH;FMTTYPE=image/jpeg:https://factbook.fans/wp-content/uploads/2023/01/bridge-gf8f9881ac_1920-1.jpg
ORGANIZER;CN="Electro%20Culture%20Austria":MAILTO:office@leiterwagerl.at
END:VEVENT
BEGIN:VEVENT
DTSTART;TZID=Europe/Vienna:20230119T080000
DTEND;TZID=Europe/Vienna:20230119T170000
DTSTAMP:20260425T001154
CREATED:20230118T125124Z
LAST-MODIFIED:20230118T125124Z
UID:4989-1674115200-1674147600@factbook.fans
SUMMARY:Test Event
DESCRIPTION:Test Text
URL:https://factbook.fans/event/test-event/
LOCATION:Zoom Meeting
ATTACH;FMTTYPE=image/jpeg:https://factbook.fans/wp-content/uploads/2023/01/bridge-gf8f9881ac_1920.jpg
ORGANIZER;CN="Electro%20Culture%20Austria":MAILTO:office@leiterwagerl.at
END:VEVENT
BEGIN:VEVENT
DTSTART;TZID=Europe/Vienna:20230119T080000
DTEND;TZID=Europe/Vienna:20230119T170000
DTSTAMP:20260425T001154
CREATED:20230118T125125Z
LAST-MODIFIED:20230118T125125Z
UID:4984-1674115200-1674147600@factbook.fans
SUMMARY:Einführung in die Electro Culture
DESCRIPTION:Test Text
URL:https://factbook.fans/event/einfuehrung-in-die-electro-culture/
LOCATION:Internet
ATTACH;FMTTYPE=image/jpeg:https://factbook.fans/wp-content/uploads/2023/01/IMG_3049-1-scaled.jpg
END:VEVENT
END:VCALENDAR