BEGIN:VCALENDAR
VERSION:2.0
PRODID:-//Factbook.fans - ECPv6.0.8//NONSGML v1.0//EN
CALSCALE:GREGORIAN
METHOD:PUBLISH
X-ORIGINAL-URL:https://factbook.fans
X-WR-CALDESC:Veranstaltungen für Factbook.fans
REFRESH-INTERVAL;VALUE=DURATION:PT1H
X-Robots-Tag:noindex
X-PUBLISHED-TTL:PT1H
BEGIN:VTIMEZONE
TZID:Europe/Vienna
BEGIN:DAYLIGHT
TZOFFSETFROM:+0100
TZOFFSETTO:+0200
TZNAME:CEST
DTSTART:20210328T010000
END:DAYLIGHT
BEGIN:STANDARD
TZOFFSETFROM:+0200
TZOFFSETTO:+0100
TZNAME:CET
DTSTART:20211031T010000
END:STANDARD
END:VTIMEZONE
BEGIN:VEVENT
DTSTART;TZID=Europe/Vienna:20210426T163000
DTEND;TZID=Europe/Vienna:20210426T193000
DTSTAMP:20260426T061015
CREATED:20210201T140652Z
LAST-MODIFIED:20210320T093232Z
UID:3801-1619454600-1619465400@factbook.fans
SUMMARY:Die Revolution der Zivilgesellschaft und das Weltsozialforum (verschoben vom 16.2.)
DESCRIPTION:VORTRAG von  Dr. Leo Gabriel \n  \nüber \n  \nDIE REVOLUTION DER ZIVILEN GESELLSCHAFT \nModeration Mag. Susanne Kowarc – Historikerin \n  \nStrategien des Weltsozialforums für den Übergang zu einer postkapitalistischen Gesellschaft \n  \nIn den letzten 20 Jahren hat das Weltsozialforum als Gegenstück zum Weltwirtschaftsforum in Davos\, der mit Recht als “Gipfel der Reichen” bezeichnet wird\, zahlreiche wirtschaftliche\, politische\, ökologisch-soziale Konzepte entworfen\, die jetzt auch im politischen Mainstream im Zeichen der multipolaren Krise\, unter den Begriffen Solidarwirtschaft\, partizipative Demokratie\, “change the system\, not the climate” diskutiert werden. Das diesjährige Weltsozialforum\, das Corona-bedingt vom 23. bis 31. Jänner online stattfand\, hat sich jetzt mit der Frage beschäftigt\, mit welchen politischen Strategien die Umsetzung dieser Konzepte realistischerweise umgesetzt werden könnten und sollten. \n  \nDr. Leo Gabriel\, Journalist und Sozialanthropologe hat mehrere Jahrzehnte in Lateinamerika gelebt und ist einer der Mitgründer des Weltsozialforums\, Autor zahlreicher Dokumentarfilme und Bücher\, in deren Mittelpunkt das Recht der Völker auf Selbstbestimmung (Autonomie) stehen. Im Jahr 2006 war er Spitzenkandidat der LINKEn bei den Europawahlen.
URL:https://factbook.fans/event/weltsozialforum-mit-dr-leo-gabriel/
ATTACH;FMTTYPE=image/jpeg:https://factbook.fans/wp-content/uploads/2021/02/LOGO-JPG.jpg
END:VEVENT
END:VCALENDAR